BEGIN:VCALENDAR
VERSION:2.0
PRODID:icalendar-ruby
CALSCALE:GREGORIAN
METHOD:PUBLISH
BEGIN:VEVENT
DTSTAMP:20260426T032453Z
UID:134-717824@thestorehouse.church
DTSTART:20261007T230000Z
DTEND:20261008T010000Z
CLASS:PUBLIC
CREATED:20260425T203131
DESCRIPTION:
LAST-MODIFIED:20260425T203131
LOCATION:Fellowship Hall
SUMMARY:Bible Study
URL;VALUE=URI:https://www.thestorehouse.church/events/bible-study--134/2026
 -10-07
ATTACH;FILENAME=Armour of God.jpg;FMTTYPE=image/jpeg:https://dq5pwpg1q8ru0.
 cloudfront.net/2026/03/08/06/13/39/93442e28-6886-4c0d-bcd4-fa2913312117/Ar
 mour%20of%20God.jpg
END:VEVENT
END:VCALENDAR
